BEGIN:VCALENDAR
VERSION:2.0
PRODID:icalendar-ruby
CALSCALE:GREGORIAN
METHOD:PUBLISH
BEGIN:VEVENT
DTSTAMP:20260421T102956Z
UID:6-1453040@parsippanybaptist.org
DTSTART:20261025T150000Z
DTEND:20261025T160000Z
CLASS:PUBLIC
CREATED:20260420T203318
DESCRIPTION:AM Worship Service
LAST-MODIFIED:20260420T203318
LOCATION:Auditorium
SUMMARY:AM Worship Service
URL;VALUE=URI:https://www.parsippanybaptist.org/events/am-worship-service/2
 026-10-25
END:VEVENT
END:VCALENDAR
