BEGIN:VCALENDAR
VERSION:2.0
PRODID:icalendar-ruby
CALSCALE:GREGORIAN
METHOD:PUBLISH
BEGIN:VEVENT
DTSTAMP:20260421T122802Z
UID:6-1454218@parsippanybaptist.org
DTSTART:20261101T160000Z
DTEND:20261101T170000Z
CLASS:PUBLIC
CREATED:20260421T073944
DESCRIPTION:AM Worship Service
LAST-MODIFIED:20260421T073944
LOCATION:Auditorium
SUMMARY:AM Worship Service
URL;VALUE=URI:https://www.parsippanybaptist.org/events/am-worship-service/2
 026-11-01
END:VEVENT
END:VCALENDAR
